BEGIN:VCALENDAR
VERSION:2.0
PRODID:icalendar-ruby
CALSCALE:GREGORIAN
METHOD:PUBLISH
BEGIN:VEVENT
DTSTAMP:20260420T173948Z
UID:7-445747@christredeemercc.com
DTSTART:20261101T163000Z
DTEND:20261101T180000Z
CLASS:PUBLIC
CREATED:20260420T114607
DESCRIPTION:
LAST-MODIFIED:20260420T114607
LOCATION:3857 S Staples St\, Corpus Christi\, TX 78411
SUMMARY:Worship Service
URL;VALUE=URI:https://www.christredeemercc.com/events/worship-service--7/20
 26-11-01
END:VEVENT
END:VCALENDAR
