BEGIN:VCALENDAR
VERSION:2.0
PRODID:icalendar-ruby
CALSCALE:GREGORIAN
METHOD:PUBLISH
BEGIN:VEVENT
DTSTAMP:20260420T143333Z
UID:7-445401@christredeemercc.com
DTSTART:20261018T153000Z
DTEND:20261018T170000Z
CLASS:PUBLIC
CREATED:20260420T091210
DESCRIPTION:
LAST-MODIFIED:20260420T091210
LOCATION:3857 S Staples St\, Corpus Christi\, TX 78411
SUMMARY:Worship Service
URL;VALUE=URI:https://www.christredeemercc.com/events/worship-service--7/20
 26-10-18
END:VEVENT
END:VCALENDAR
