BEGIN:VCALENDAR
VERSION:2.0
PRODID:icalendar-ruby
CALSCALE:GREGORIAN
METHOD:PUBLISH
BEGIN:VEVENT
DTSTAMP:20260420T130040Z
UID:7-445056@christredeemercc.com
DTSTART:20261011T153000Z
DTEND:20261011T170000Z
CLASS:PUBLIC
CREATED:20260420T063631
DESCRIPTION:
LAST-MODIFIED:20260420T063631
LOCATION:3857 S Staples St\, Corpus Christi\, TX 78411
SUMMARY:Worship Service
URL;VALUE=URI:https://www.christredeemercc.com/events/worship-service--7/20
 26-10-11
END:VEVENT
END:VCALENDAR
