BEGIN:VCALENDAR
VERSION:2.0
PRODID:icalendar-ruby
CALSCALE:GREGORIAN
METHOD:PUBLISH
BEGIN:VEVENT
DTSTAMP:20260420T071729Z
UID:7-444708@christredeemercc.com
DTSTART:20260913T153000Z
DTEND:20260913T170000Z
CLASS:PUBLIC
CREATED:20260420T014238
DESCRIPTION:
LAST-MODIFIED:20260420T014238
LOCATION:3857 S Staples St\, Corpus Christi\, TX 78411
SUMMARY:Worship Service
URL;VALUE=URI:https://www.christredeemercc.com/events/worship-service--7/20
 26-09-13
END:VEVENT
END:VCALENDAR
