BEGIN:VCALENDAR
VERSION:2.0
PRODID:icalendar-ruby
CALSCALE:GREGORIAN
METHOD:PUBLISH
BEGIN:VEVENT
DTSTAMP:20260424T052240Z
UID:8-453143@christredeemercc.com
DTSTART:20261101T153000Z
DTEND:20261101T161500Z
CLASS:PUBLIC
CREATED:20260423T212224
DESCRIPTION:
LAST-MODIFIED:20260423T212224
LOCATION: 3857 S Staples St\, Corpus Christi\, TX 78411
SUMMARY:Devotional Time
URL;VALUE=URI:https://www.christredeemercc.com/events/devotional-time/2026-
 11-01
END:VEVENT
END:VCALENDAR
