BEGIN:VCALENDAR
VERSION:2.0
PRODID:icalendar-ruby
CALSCALE:GREGORIAN
METHOD:PUBLISH
BEGIN:VEVENT
DTSTAMP:20260424T013958Z
UID:8-452796@christredeemercc.com
DTSTART:20261011T143000Z
DTEND:20261011T151500Z
CLASS:PUBLIC
CREATED:20260423T182827
DESCRIPTION:
LAST-MODIFIED:20260423T182827
LOCATION: 3857 S Staples St\, Corpus Christi\, TX 78411
SUMMARY:Devotional Time
URL;VALUE=URI:https://www.christredeemercc.com/events/devotional-time/2026-
 10-11
END:VEVENT
END:VCALENDAR
