BEGIN:VCALENDAR
VERSION:2.0
PRODID:icalendar-ruby
CALSCALE:GREGORIAN
METHOD:PUBLISH
BEGIN:VEVENT
DTSTAMP:20260424T002627Z
UID:8-452795@christredeemercc.com
DTSTART:20261004T143000Z
DTEND:20261004T151500Z
CLASS:PUBLIC
CREATED:20260423T182827
DESCRIPTION:
LAST-MODIFIED:20260423T182827
LOCATION: 3857 S Staples St\, Corpus Christi\, TX 78411
SUMMARY:Devotional Time
URL;VALUE=URI:https://www.christredeemercc.com/events/devotional-time/2026-
 10-04
END:VEVENT
END:VCALENDAR
