BEGIN:VCALENDAR
VERSION:2.0
PRODID:icalendar-ruby
CALSCALE:GREGORIAN
METHOD:PUBLISH
BEGIN:VEVENT
DTSTAMP:20260423T215538Z
UID:8-452449@christredeemercc.com
DTSTART:20260920T143000Z
DTEND:20260920T151500Z
CLASS:PUBLIC
CREATED:20260423T153443
DESCRIPTION:
LAST-MODIFIED:20260423T153443
LOCATION: 3857 S Staples St\, Corpus Christi\, TX 78411
SUMMARY:Devotional Time
URL;VALUE=URI:https://www.christredeemercc.com/events/devotional-time/2026-
 09-20
END:VEVENT
END:VCALENDAR
