BEGIN:VCALENDAR
VERSION:2.0
PRODID:icalendar-ruby
CALSCALE:GREGORIAN
METHOD:PUBLISH
BEGIN:VEVENT
DTSTAMP:20260423T204223Z
UID:8-452448@christredeemercc.com
DTSTART:20260913T143000Z
DTEND:20260913T151500Z
CLASS:PUBLIC
CREATED:20260423T153443
DESCRIPTION:
LAST-MODIFIED:20260423T153443
LOCATION: 3857 S Staples St\, Corpus Christi\, TX 78411
SUMMARY:Devotional Time
URL;VALUE=URI:https://www.christredeemercc.com/events/devotional-time/2026-
 09-13
END:VEVENT
END:VCALENDAR
